BEGIN:VCALENDAR
VERSION:2.0
PRODID:-//ORKI Kota Malang - ECPv6.15.11//NONSGML v1.0//EN
CALSCALE:GREGORIAN
METHOD:PUBLISH
X-WR-CALNAME:ORKI Kota Malang
X-ORIGINAL-URL:https://orkimalang.id
X-WR-CALDESC:Events for ORKI Kota Malang
REFRESH-INTERVAL;VALUE=DURATION:PT1H
X-Robots-Tag:noindex
X-PUBLISHED-TTL:PT1H
BEGIN:VTIMEZONE
TZID:Asia/Jakarta
BEGIN:STANDARD
TZOFFSETFROM:+0700
TZOFFSETTO:+0700
TZNAME:WIB
DTSTART:20240101T000000
END:STANDARD
END:VTIMEZONE
BEGIN:VEVENT
DTSTART;TZID=Asia/Jakarta:20251012T080000
DTEND;TZID=Asia/Jakarta:20251012T170000
DTSTAMP:20260421T183950
CREATED:20251010T140214Z
LAST-MODIFIED:20251010T140602Z
UID:19191-1760256000-1760288400@orkimalang.id
SUMMARY:Training For Instructor ORKI Jatim
DESCRIPTION:Hai dulur dulur semuanya 🫰🏻🤩…\nYuk upgrade skill dan wawasan kamu dalam acara sertifikasi instruktur senam batch 1 Jawa Timur 🙏🏻☺️ \nUntuk semua para calon instruktur tersertifikasi hebat\, yang udah gak sabar pengen upgrade kemampuan senam yang gak cuma gitu-gitu aja ke level lebih berikutnya dan bermanfaat lebih luas di tengah masyarakat di daerahnya?…… \nMenjadi seorang Trainer Kebugaran yang handal dong pastinya……. \nSo………jangan lewatkan \nTRAINING FOR INSTRUKTUR BATCH 1 Jawa Timur (2025) \nkapan…….❓❓❓ \nNih catet dan buletin di kalender kamu ya 😀 \n🗓️ Minggu\, 12 Oktober 2025 (ONLINE)\n🗓️ Sabtu\, 18 Oktober 2025 (OFFLINE)\n🏞️ gd. MCC\, Kota Malang \n💰 Price List\n* Early Bird Tahap I : Rp. 300.000\,- (28 September – 10 Okt 2025 )\n* Early Bird Tahap II : Rp. 500.000\,- (11 – 15 Okt’ 2025)\n* Regular : Rp. 1.000.000\,- (16 – 18 Oktober 2025) \n👜Benefit yang didapatkan\n* Sertifikat TFI ORKI (license sebagai instruktur ORKI dan persyaratan mengikuti TFT Nasional)\n* Materi yang berkualitas\n* Pembicara dan Trainer Nasional\n* Akomodasi\n– Konsumsi dan Snack\n– Seminar Kit\n– Games Keren\n– Teman baru dan pengalaman seru pastinya \n💳 Transfer Melalui\n1066690187 bank jatim\na.n Afisca Indah Nuzulul Laila\n(Bendahara Panitia TFI Senam Batch 1 Jatim) \nYuk gercepin makin cepet makin hemat loooh dan yang spesialnya batch kali ini akan bertaburan pemateri Nasional yang profesional dibidangnya masing-masing 🤩\, diantaranya : \n⭐ Coach Defrizal Siregar S. Or\, AIFO FIT\n—————–\nAhli ilmu FAAL & Sport Science \n⭐ Coach Abdul Rojak\n—————–\nCardio Specialist \n⭐ Coach Shinta Windi Brilianti\n—————–\n(Cardio Specialist) \n⭐ Edi Harianto\n——————\nTrainer Senam & Wakil Ketua ORKI Jatim \n⭐Yayan Supardjo\n—————-\nStrategic Manajemen ke-ORKIan Kota/Kab. & Sekjend ORKI Jatim \nTunggu apa lagi siiih… Yuuk buruan daftar : \nhttps://s.id/TFIsenamJawaTimurbatch1 \nAtau bisa hubungi :\n📱Coach Iva +62 857-4643-3307\n📱Coach Afisca +62 857-4671-5617 \nWaaahh udah gak sabar nih ketemu coach-coach luar biasa se-Jawa Timur 😍😍😍. . See You Yaaaaaa 🫰🏻😉 \nBUGARKAN MASYARAKAT JAWA TIMUR SEPANJANG USIA
URL:https://orkimalang.id/jadwal/training-for-instructor-orki-jatim/
LOCATION:Malang Creative Center\, Malang\, Jawa Timur\, Indonesia
CATEGORIES:Pendidikan & Pelatihan
ATTACH;FMTTYPE=image/jpeg:https://orkimalang.id/wp-content/uploads/2025/10/training-for-instructor-orki-jatim.jpeg
ORGANIZER;CN="ORKI Jatim":MAILTO:orkimalang
END:VEVENT
END:VCALENDAR